BEGIN:VCALENDAR
VERSION:2.0
PRODID:-//meinElm.de - ECPv6.15.20//NONSGML v1.0//EN
CALSCALE:GREGORIAN
METHOD:PUBLISH
X-ORIGINAL-URL:https://www.meinelm.de
X-WR-CALDESC:Veranstaltungen für meinElm.de
REFRESH-INTERVAL;VALUE=DURATION:PT1H
X-Robots-Tag:noindex
X-PUBLISHED-TTL:PT1H
BEGIN:VTIMEZONE
TZID:Europe/Berlin
BEGIN:DAYLIGHT
TZOFFSETFROM:+0100
TZOFFSETTO:+0200
TZNAME:CEST
DTSTART:20250330T010000
END:DAYLIGHT
BEGIN:STANDARD
TZOFFSETFROM:+0200
TZOFFSETTO:+0100
TZNAME:CET
DTSTART:20251026T010000
END:STANDARD
BEGIN:DAYLIGHT
TZOFFSETFROM:+0100
TZOFFSETTO:+0200
TZNAME:CEST
DTSTART:20260329T010000
END:DAYLIGHT
BEGIN:STANDARD
TZOFFSETFROM:+0200
TZOFFSETTO:+0100
TZNAME:CET
DTSTART:20261025T010000
END:STANDARD
BEGIN:DAYLIGHT
TZOFFSETFROM:+0100
TZOFFSETTO:+0200
TZNAME:CEST
DTSTART:20270328T010000
END:DAYLIGHT
BEGIN:STANDARD
TZOFFSETFROM:+0200
TZOFFSETTO:+0100
TZNAME:CET
DTSTART:20271031T010000
END:STANDARD
END:VTIMEZONE
BEGIN:VEVENT
DTSTART;TZID=Europe/Berlin:20260906T093000
DTEND;TZID=Europe/Berlin:20260906T110000
DTSTAMP:20260421T144415
CREATED:20260114T224002Z
LAST-MODIFIED:20260324T082711Z
UID:3734-1788687000-1788692400@www.meinelm.de
SUMMARY:Jubelkonfirmation
DESCRIPTION:
URL:https://www.meinelm.de/event/jubelkonfirmation-4/
LOCATION:Kirche Elm
END:VEVENT
BEGIN:VEVENT
DTSTART;TZID=Europe/Berlin:20260928T190000
DTEND;TZID=Europe/Berlin:20260928T190000
DTSTAMP:20260421T144415
CREATED:20260114T224002Z
LAST-MODIFIED:20260114T224757Z
UID:3735-1790622000-1790622000@www.meinelm.de
SUMMARY:Förderverein Elmerland Grundschule Jahreshauptversammlung
DESCRIPTION:
URL:https://www.meinelm.de/event/jahreshauptversammlung-17/
END:VEVENT
END:VCALENDAR